BEGIN:VCALENDAR
VERSION:2.0
PRODID:-//Memorial Health System of Southwest Oklahoma - ECPv6.15.20//NONSGML v1.0//EN
CALSCALE:GREGORIAN
METHOD:PUBLISH
X-ORIGINAL-URL:https://www.memorialhealthswok.com
X-WR-CALDESC:Events for Memorial Health System of Southwest Oklahoma
REFRESH-INTERVAL;VALUE=DURATION:PT1H
X-Robots-Tag:noindex
X-PUBLISHED-TTL:PT1H
BEGIN:VTIMEZONE
TZID:UTC
BEGIN:STANDARD
TZOFFSETFROM:+0000
TZOFFSETTO:+0000
TZNAME:UTC
DTSTART:20250101T000000
END:STANDARD
END:VTIMEZONE
BEGIN:VEVENT
DTSTART;TZID=UTC:20260507T110000
DTEND;TZID=UTC:20260507T120000
DTSTAMP:20260420T153134
CREATED:20260109T215520Z
LAST-MODIFIED:20260109T215520Z
UID:10001761-1778151600-1778155200@www.memorialhealthswok.com
SUMMARY:Prenatal Tours
DESCRIPTION:11 a.m. in the Memorial Health Lobby
URL:https://www.memorialhealthswok.com/events/prenatal-tours/2026-05-07/
LOCATION:Memorial Health System of Southwest Oklahoma\, 3401 West Gore Boulevard\, Lawton\, OK\, 73505\, United States
END:VEVENT
BEGIN:VEVENT
DTSTART;TZID=UTC:20260507T190000
DTEND;TZID=UTC:20260507T210000
DTSTAMP:20260420T153134
CREATED:20260109T222313Z
LAST-MODIFIED:20260109T222313Z
UID:10001851-1778180400-1778187600@www.memorialhealthswok.com
SUMMARY:Breastfeeding Class
DESCRIPTION:7 p.m. in Fieldstone Conference Room
URL:https://www.memorialhealthswok.com/events/breastfeeding-class-2/2026-05-07/
LOCATION:Memorial Health System of Southwest Oklahoma\, 3401 West Gore Boulevard\, Lawton\, OK\, 73505\, United States
END:VEVENT
BEGIN:VEVENT
DTSTART;TZID=UTC:20260509T090000
DTEND;TZID=UTC:20260509T120000
DTSTAMP:20260420T153134
CREATED:20260109T220249Z
LAST-MODIFIED:20260109T220249Z
UID:10001801-1778317200-1778328000@www.memorialhealthswok.com
SUMMARY:Childbirth Class
DESCRIPTION:Oakwood Conference Room
URL:https://www.memorialhealthswok.com/events/childbirth-class/2026-05-09/
LOCATION:Memorial Health System of Southwest Oklahoma\, 3401 West Gore Boulevard\, Lawton\, OK\, 73505\, United States
END:VEVENT
BEGIN:VEVENT
DTSTART;TZID=UTC:20260514T110000
DTEND;TZID=UTC:20260514T120000
DTSTAMP:20260420T153134
CREATED:20260109T215520Z
LAST-MODIFIED:20260109T215520Z
UID:10001762-1778756400-1778760000@www.memorialhealthswok.com
SUMMARY:Prenatal Tours
DESCRIPTION:11 a.m. in the Memorial Health Lobby
URL:https://www.memorialhealthswok.com/events/prenatal-tours/2026-05-14/
LOCATION:Memorial Health System of Southwest Oklahoma\, 3401 West Gore Boulevard\, Lawton\, OK\, 73505\, United States
END:VEVENT
BEGIN:VEVENT
DTSTART;TZID=UTC:20260521T110000
DTEND;TZID=UTC:20260521T120000
DTSTAMP:20260420T153134
CREATED:20260109T215520Z
LAST-MODIFIED:20260109T215520Z
UID:10001763-1779361200-1779364800@www.memorialhealthswok.com
SUMMARY:Prenatal Tours
DESCRIPTION:11 a.m. in the Memorial Health Lobby
URL:https://www.memorialhealthswok.com/events/prenatal-tours/2026-05-21/
LOCATION:Memorial Health System of Southwest Oklahoma\, 3401 West Gore Boulevard\, Lawton\, OK\, 73505\, United States
END:VEVENT
BEGIN:VEVENT
DTSTART;TZID=UTC:20260523T090000
DTEND;TZID=UTC:20260523T120000
DTSTAMP:20260420T153134
CREATED:20260109T221122Z
LAST-MODIFIED:20260109T221122Z
UID:10001839-1779526800-1779537600@www.memorialhealthswok.com
SUMMARY:Childbirth Class
DESCRIPTION:Oakwood Conference Room
URL:https://www.memorialhealthswok.com/events/childbirth-class-2/2026-05-23/
LOCATION:Memorial Health System of Southwest Oklahoma\, 3401 West Gore Boulevard\, Lawton\, OK\, 73505\, United States
END:VEVENT
BEGIN:VEVENT
DTSTART;TZID=UTC:20260528T110000
DTEND;TZID=UTC:20260528T120000
DTSTAMP:20260420T153134
CREATED:20260109T215520Z
LAST-MODIFIED:20260109T215520Z
UID:10001764-1779966000-1779969600@www.memorialhealthswok.com
SUMMARY:Prenatal Tours
DESCRIPTION:11 a.m. in the Memorial Health Lobby
URL:https://www.memorialhealthswok.com/events/prenatal-tours/2026-05-28/
LOCATION:Memorial Health System of Southwest Oklahoma\, 3401 West Gore Boulevard\, Lawton\, OK\, 73505\, United States
END:VEVENT
END:VCALENDAR