BEGIN:VCALENDAR
VERSION:2.0
PRODID:-//Memorial Health System of Southwest Oklahoma - ECPv6.15.20//NONSGML v1.0//EN
CALSCALE:GREGORIAN
METHOD:PUBLISH
X-ORIGINAL-URL:https://www.memorialhealthswok.com
X-WR-CALDESC:Events for Memorial Health System of Southwest Oklahoma
REFRESH-INTERVAL;VALUE=DURATION:PT1H
X-Robots-Tag:noindex
X-PUBLISHED-TTL:PT1H
BEGIN:VTIMEZONE
TZID:UTC
BEGIN:STANDARD
TZOFFSETFROM:+0000
TZOFFSETTO:+0000
TZNAME:UTC
DTSTART:20230101T000000
END:STANDARD
END:VTIMEZONE
BEGIN:VEVENT
DTSTART;TZID=UTC:20241101T140000
DTEND;TZID=UTC:20241101T170000
DTSTAMP:20260425T160630
CREATED:20241014T153719Z
LAST-MODIFIED:20241014T153942Z
UID:10001283-1730469600-1730480400@www.memorialhealthswok.com
SUMMARY:Medical Management of Jehovah's Witnesses
DESCRIPTION:Join us to learn how medical professionals successfully treat the growing number of Jehovah’s Witnesses who decline allogeneic blood transfusions. \nThis event is available for any health care professionals. It will be held in the MHS Oakwoods Conference Rooms. \nFor questions and to register for in-person attendance\, email sw.ahec@memorialhealthswok.com. \nTo register for virtual attendance\, click here.
URL:https://www.memorialhealthswok.com/events/medical-management-of-jehovahs-witnesses/
LOCATION:OK
END:VEVENT
BEGIN:VEVENT
DTSTART;TZID=UTC:20241104T160000
DTEND;TZID=UTC:20241104T180000
DTSTAMP:20260425T160630
CREATED:20240903T195244Z
LAST-MODIFIED:20240903T195244Z
UID:10000966-1730736000-1730743200@www.memorialhealthswok.com
SUMMARY:Mourning and Meaning Grief Group
DESCRIPTION:Fall 10-week session begins Monday\, September 9 at 4 PM \nIf your grief feels like uncharted territory\, you are not alone. Grief can be a confusing and isolating experience. Mourning and Meaning is a time of learning about your grief and\, if you wish\, sharing about grief in a supportive group setting. We will help you understand the terrain and walk alongside you.  \nFind your footing at the next ten-week Mourning and Meaning Grief Group. \nRegister by calling MHS Caplain Paul Gore at 580.355.8620 or email paul.gore@memorialhealthswok.com
URL:https://www.memorialhealthswok.com/events/mourning-and-meaning-grief-group/2024-11-04/
LOCATION:OK
END:VEVENT
BEGIN:VEVENT
DTSTART;TZID=UTC:20241107T110000
DTEND;TZID=UTC:20241107T123000
DTSTAMP:20260425T160630
CREATED:20240903T182923Z
LAST-MODIFIED:20240903T182923Z
UID:10000386-1730977200-1730982600@www.memorialhealthswok.com
SUMMARY:Prenatal Tour
DESCRIPTION:Every Thursday\, 11 AM\, in hospital lobby \nTo register\, text 580.250.5253 \nClick here to view our informational flyer.
URL:https://www.memorialhealthswok.com/events/prenatal-tour/2024-11-07/
LOCATION:OK
END:VEVENT
BEGIN:VEVENT
DTSTART;TZID=UTC:20241107T190000
DTEND;TZID=UTC:20241107T203000
DTSTAMP:20260425T160630
CREATED:20240903T183108Z
LAST-MODIFIED:20240903T183108Z
UID:10000640-1731006000-1731011400@www.memorialhealthswok.com
SUMMARY:Breastfeeding Classes
DESCRIPTION:First Thursday of each month\, 7 PM \nFieldstone Conference Room \nClick here to view our informational flyer.
URL:https://www.memorialhealthswok.com/events/breastfeeding-classes/2024-11-07/
LOCATION:OK
END:VEVENT
BEGIN:VEVENT
DTSTART;TZID=UTC:20241111T160000
DTEND;TZID=UTC:20241111T180000
DTSTAMP:20260425T160630
CREATED:20240903T195244Z
LAST-MODIFIED:20240903T195244Z
UID:10000967-1731340800-1731348000@www.memorialhealthswok.com
SUMMARY:Mourning and Meaning Grief Group
DESCRIPTION:Fall 10-week session begins Monday\, September 9 at 4 PM \nIf your grief feels like uncharted territory\, you are not alone. Grief can be a confusing and isolating experience. Mourning and Meaning is a time of learning about your grief and\, if you wish\, sharing about grief in a supportive group setting. We will help you understand the terrain and walk alongside you.  \nFind your footing at the next ten-week Mourning and Meaning Grief Group. \nRegister by calling MHS Caplain Paul Gore at 580.355.8620 or email paul.gore@memorialhealthswok.com
URL:https://www.memorialhealthswok.com/events/mourning-and-meaning-grief-group/2024-11-11/
LOCATION:OK
END:VEVENT
BEGIN:VEVENT
DTSTART;TZID=UTC:20241112T090000
DTEND;TZID=UTC:20241112T110000
DTSTAMP:20260425T160630
CREATED:20241001T203819Z
LAST-MODIFIED:20241001T210513Z
UID:10001213-1731402000-1731409200@www.memorialhealthswok.com
SUMMARY:Joint Replacement Class
DESCRIPTION:9am | Education Conference Room\nTo register\, call ext 5587 or 580.585.5587
URL:https://www.memorialhealthswok.com/events/joint-replacement-class/2024-11-12/
LOCATION:OK
END:VEVENT
BEGIN:VEVENT
DTSTART;TZID=UTC:20241119T090000
DTEND;TZID=UTC:20241119T110000
DTSTAMP:20260425T160630
CREATED:20241001T203819Z
LAST-MODIFIED:20241001T210513Z
UID:10000979-1732006800-1732014000@www.memorialhealthswok.com
SUMMARY:Joint Replacement Class
DESCRIPTION:9am | Education Conference Room\nTo register\, call ext 5587 or 580.585.5587
URL:https://www.memorialhealthswok.com/events/joint-replacement-class/2024-11-19/
LOCATION:OK
END:VEVENT
BEGIN:VEVENT
DTSTART;VALUE=DATE:20241128
DTEND;VALUE=DATE:20241129
DTSTAMP:20260425T160630
CREATED:20241104T213747Z
LAST-MODIFIED:20241104T213747Z
UID:10001289-1732752000-1732838399@www.memorialhealthswok.com
SUMMARY:Happy Thanksgiving!
DESCRIPTION:Clinics\, professional offices\, departments are closed. \n24/7 Pharmacy is open\, as well as the Emergency Department and inpatient hospital care.
URL:https://www.memorialhealthswok.com/events/happy-thanksgiving/
LOCATION:OK
END:VEVENT
END:VCALENDAR