BEGIN:VCALENDAR
VERSION:2.0
PRODID:-//Memorial Health System of Southwest Oklahoma - ECPv6.15.20//NONSGML v1.0//EN
CALSCALE:GREGORIAN
METHOD:PUBLISH
X-WR-CALNAME:Memorial Health System of Southwest Oklahoma
X-ORIGINAL-URL:https://www.memorialhealthswok.com
X-WR-CALDESC:Events for Memorial Health System of Southwest Oklahoma
REFRESH-INTERVAL;VALUE=DURATION:PT1H
X-Robots-Tag:noindex
X-PUBLISHED-TTL:PT1H
BEGIN:VTIMEZONE
TZID:UTC
BEGIN:STANDARD
TZOFFSETFROM:+0000
TZOFFSETTO:+0000
TZNAME:UTC
DTSTART:20230101T000000
END:STANDARD
END:VTIMEZONE
BEGIN:VEVENT
DTSTART;TZID=UTC:20240905T110000
DTEND;TZID=UTC:20240905T123000
DTSTAMP:20260425T211738
CREATED:20240903T182923Z
LAST-MODIFIED:20240903T182923Z
UID:10000377-1725534000-1725539400@www.memorialhealthswok.com
SUMMARY:Prenatal Tour
DESCRIPTION:Every Thursday\, 11 AM\, in hospital lobby \nTo register\, text 580.250.5253 \nClick here to view our informational flyer.
URL:https://www.memorialhealthswok.com/events/prenatal-tour/2024-09-05/
LOCATION:OK
END:VEVENT
BEGIN:VEVENT
DTSTART;TZID=UTC:20240905T190000
DTEND;TZID=UTC:20240905T203000
DTSTAMP:20260425T211738
CREATED:20240903T183108Z
LAST-MODIFIED:20240903T183108Z
UID:10000638-1725562800-1725568200@www.memorialhealthswok.com
SUMMARY:Breastfeeding Classes
DESCRIPTION:First Thursday of each month\, 7 PM \nFieldstone Conference Room \nClick here to view our informational flyer.
URL:https://www.memorialhealthswok.com/events/breastfeeding-classes/2024-09-05/
LOCATION:OK
END:VEVENT
BEGIN:VEVENT
DTSTART;TZID=UTC:20240909T160000
DTEND;TZID=UTC:20240909T180000
DTSTAMP:20260425T211738
CREATED:20240903T195244Z
LAST-MODIFIED:20240903T195244Z
UID:10000958-1725897600-1725904800@www.memorialhealthswok.com
SUMMARY:Mourning and Meaning Grief Group
DESCRIPTION:Fall 10-week session begins Monday\, September 9 at 4 PM \nIf your grief feels like uncharted territory\, you are not alone. Grief can be a confusing and isolating experience. Mourning and Meaning is a time of learning about your grief and\, if you wish\, sharing about grief in a supportive group setting. We will help you understand the terrain and walk alongside you.  \nFind your footing at the next ten-week Mourning and Meaning Grief Group. \nRegister by calling MHS Caplain Paul Gore at 580.355.8620 or email paul.gore@memorialhealthswok.com
URL:https://www.memorialhealthswok.com/events/mourning-and-meaning-grief-group/2024-09-09/
LOCATION:OK
END:VEVENT
BEGIN:VEVENT
DTSTART;TZID=UTC:20240912T110000
DTEND;TZID=UTC:20240912T123000
DTSTAMP:20260425T211738
CREATED:20240903T182923Z
LAST-MODIFIED:20240903T182923Z
UID:10000378-1726138800-1726144200@www.memorialhealthswok.com
SUMMARY:Prenatal Tour
DESCRIPTION:Every Thursday\, 11 AM\, in hospital lobby \nTo register\, text 580.250.5253 \nClick here to view our informational flyer.
URL:https://www.memorialhealthswok.com/events/prenatal-tour/2024-09-12/
LOCATION:OK
END:VEVENT
BEGIN:VEVENT
DTSTART;TZID=UTC:20240916T160000
DTEND;TZID=UTC:20240916T180000
DTSTAMP:20260425T211738
CREATED:20240903T195244Z
LAST-MODIFIED:20240903T195244Z
UID:10000959-1726502400-1726509600@www.memorialhealthswok.com
SUMMARY:Mourning and Meaning Grief Group
DESCRIPTION:Fall 10-week session begins Monday\, September 9 at 4 PM \nIf your grief feels like uncharted territory\, you are not alone. Grief can be a confusing and isolating experience. Mourning and Meaning is a time of learning about your grief and\, if you wish\, sharing about grief in a supportive group setting. We will help you understand the terrain and walk alongside you.  \nFind your footing at the next ten-week Mourning and Meaning Grief Group. \nRegister by calling MHS Caplain Paul Gore at 580.355.8620 or email paul.gore@memorialhealthswok.com
URL:https://www.memorialhealthswok.com/events/mourning-and-meaning-grief-group/2024-09-16/
LOCATION:OK
END:VEVENT
BEGIN:VEVENT
DTSTART;TZID=UTC:20240919T110000
DTEND;TZID=UTC:20240919T123000
DTSTAMP:20260425T211738
CREATED:20240903T182923Z
LAST-MODIFIED:20240903T182923Z
UID:10000379-1726743600-1726749000@www.memorialhealthswok.com
SUMMARY:Prenatal Tour
DESCRIPTION:Every Thursday\, 11 AM\, in hospital lobby \nTo register\, text 580.250.5253 \nClick here to view our informational flyer.
URL:https://www.memorialhealthswok.com/events/prenatal-tour/2024-09-19/
LOCATION:OK
END:VEVENT
BEGIN:VEVENT
DTSTART;TZID=UTC:20240920T090000
DTEND;TZID=UTC:20240920T100000
DTSTAMP:20260425T211738
CREATED:20240917T174807Z
LAST-MODIFIED:20240917T174807Z
UID:10000969-1726822800-1726826400@www.memorialhealthswok.com
SUMMARY:Pediatric Mock Codes
DESCRIPTION:9am\, 2pm\, 6:30pm in the Sim Center \nTo register\, email sw.ahec@memorialhealthswok.com
URL:https://www.memorialhealthswok.com/events/pediatric-mock-codes/
LOCATION:OK
END:VEVENT
BEGIN:VEVENT
DTSTART;TZID=UTC:20240920T130000
DTEND;TZID=UTC:20240920T150000
DTSTAMP:20260425T211738
CREATED:20240917T175308Z
LAST-MODIFIED:20240917T175308Z
UID:10000971-1726837200-1726844400@www.memorialhealthswok.com
SUMMARY:SANE Program of Lawton
DESCRIPTION:Informational presentation on the local SANE program and the resources it provides. \n\n\n\n\n1pm | LCHC Family First & virtual \n\n\n\n\nTo register\, email sw.ahec@memorialhealthswok.com
URL:https://www.memorialhealthswok.com/events/sane-program-of-lawton/
LOCATION:OK
END:VEVENT
BEGIN:VEVENT
DTSTART;TZID=UTC:20240920T150000
DTEND;TZID=UTC:20240920T170000
DTSTAMP:20260425T211738
CREATED:20240917T174938Z
LAST-MODIFIED:20240917T174954Z
UID:10000970-1726844400-1726851600@www.memorialhealthswok.com
SUMMARY:Naloxone Training
DESCRIPTION:Learn to recognize the signs and symptoms of an overdose\, administer naloxone\, and learn morea bout the naloxone program at MHS. \n3pm | LCHC Family First \nTo register\, email sw.ahec@memorialhealthswok.com
URL:https://www.memorialhealthswok.com/events/naloxone-training/
LOCATION:OK
END:VEVENT
BEGIN:VEVENT
DTSTART;TZID=UTC:20240923T160000
DTEND;TZID=UTC:20240923T180000
DTSTAMP:20260425T211738
CREATED:20240903T195244Z
LAST-MODIFIED:20240903T195244Z
UID:10000960-1727107200-1727114400@www.memorialhealthswok.com
SUMMARY:Mourning and Meaning Grief Group
DESCRIPTION:Fall 10-week session begins Monday\, September 9 at 4 PM \nIf your grief feels like uncharted territory\, you are not alone. Grief can be a confusing and isolating experience. Mourning and Meaning is a time of learning about your grief and\, if you wish\, sharing about grief in a supportive group setting. We will help you understand the terrain and walk alongside you.  \nFind your footing at the next ten-week Mourning and Meaning Grief Group. \nRegister by calling MHS Caplain Paul Gore at 580.355.8620 or email paul.gore@memorialhealthswok.com
URL:https://www.memorialhealthswok.com/events/mourning-and-meaning-grief-group/2024-09-23/
LOCATION:OK
END:VEVENT
BEGIN:VEVENT
DTSTART;TZID=UTC:20240926T110000
DTEND;TZID=UTC:20240926T123000
DTSTAMP:20260425T211738
CREATED:20240903T182923Z
LAST-MODIFIED:20240903T182923Z
UID:10000380-1727348400-1727353800@www.memorialhealthswok.com
SUMMARY:Prenatal Tour
DESCRIPTION:Every Thursday\, 11 AM\, in hospital lobby \nTo register\, text 580.250.5253 \nClick here to view our informational flyer.
URL:https://www.memorialhealthswok.com/events/prenatal-tour/2024-09-26/
LOCATION:OK
END:VEVENT
BEGIN:VEVENT
DTSTART;TZID=UTC:20240928T090000
DTEND;TZID=UTC:20240928T160000
DTSTAMP:20260425T211738
CREATED:20240904T182749Z
LAST-MODIFIED:20240904T182749Z
UID:10000968-1727514000-1727539200@www.memorialhealthswok.com
SUMMARY:Mental Health First Aid Training
DESCRIPTION:Sometimes\, first aid isn’t a bandage\, CPR or calling 9-1-1. Sometimes\, first aid is YOU. \nThis is a virtual course from 9 AM – 4 PM on September 28. \nTo register\, email sw.ahec@memorialhealthswok.com or call 580.699.7353. \nClick here to view our informational flyer.
URL:https://www.memorialhealthswok.com/events/mental-health-first-aid-training/
LOCATION:OK
END:VEVENT
BEGIN:VEVENT
DTSTART;TZID=UTC:20240930T160000
DTEND;TZID=UTC:20240930T180000
DTSTAMP:20260425T211738
CREATED:20240903T195244Z
LAST-MODIFIED:20240903T195244Z
UID:10000961-1727712000-1727719200@www.memorialhealthswok.com
SUMMARY:Mourning and Meaning Grief Group
DESCRIPTION:Fall 10-week session begins Monday\, September 9 at 4 PM \nIf your grief feels like uncharted territory\, you are not alone. Grief can be a confusing and isolating experience. Mourning and Meaning is a time of learning about your grief and\, if you wish\, sharing about grief in a supportive group setting. We will help you understand the terrain and walk alongside you.  \nFind your footing at the next ten-week Mourning and Meaning Grief Group. \nRegister by calling MHS Caplain Paul Gore at 580.355.8620 or email paul.gore@memorialhealthswok.com
URL:https://www.memorialhealthswok.com/events/mourning-and-meaning-grief-group/2024-09-30/
LOCATION:OK
END:VEVENT
END:VCALENDAR