BEGIN:VCALENDAR
VERSION:2.0
PRODID:-//Memorial Health System of Southwest Oklahoma - ECPv6.15.20//NONSGML v1.0//EN
CALSCALE:GREGORIAN
METHOD:PUBLISH
X-WR-CALNAME:Memorial Health System of Southwest Oklahoma
X-ORIGINAL-URL:https://www.memorialhealthswok.com
X-WR-CALDESC:Events for Memorial Health System of Southwest Oklahoma
REFRESH-INTERVAL;VALUE=DURATION:PT1H
X-Robots-Tag:noindex
X-PUBLISHED-TTL:PT1H
BEGIN:VTIMEZONE
TZID:UTC
BEGIN:STANDARD
TZOFFSETFROM:+0000
TZOFFSETTO:+0000
TZNAME:UTC
DTSTART:20240101T000000
END:STANDARD
END:VTIMEZONE
BEGIN:VEVENT
DTSTART;TZID=UTC:20250426T080000
DTEND;TZID=UTC:20250426T120000
DTSTAMP:20260421T060451
CREATED:20250407T213251Z
LAST-MODIFIED:20250407T213251Z
UID:10001744-1745654400-1745668800@www.memorialhealthswok.com
SUMMARY:Free Head and Neck Screening
DESCRIPTION:8am – 12pm | Cancer Centers – Lawton \nTo register\, call 580.536.2121
URL:https://www.memorialhealthswok.com/events/free-head-and-neck-screening/
LOCATION:OK
END:VEVENT
BEGIN:VEVENT
DTSTART;TZID=UTC:20250424T113000
DTEND;TZID=UTC:20250424T130000
DTSTAMP:20260421T060451
CREATED:20250407T213052Z
LAST-MODIFIED:20250407T213052Z
UID:10001743-1745494200-1745499600@www.memorialhealthswok.com
SUMMARY:Lunch & Learn: Decisions that Matter
DESCRIPTION:11:30am – 1 pm | Oakwood Conference Room
URL:https://www.memorialhealthswok.com/events/lunch-learn-decisions-that-matter/
LOCATION:OK
END:VEVENT
BEGIN:VEVENT
DTSTART;TZID=UTC:20250424T110000
DTEND;TZID=UTC:20250424T120000
DTSTAMP:20260421T060451
CREATED:20250407T211846Z
LAST-MODIFIED:20250407T211846Z
UID:10001346-1745492400-1745496000@www.memorialhealthswok.com
SUMMARY:Prenatal Tour
DESCRIPTION:11am | Hospital Lobby
URL:https://www.memorialhealthswok.com/events/prenatal-tour-5/2025-04-24/
LOCATION:OK
END:VEVENT
BEGIN:VEVENT
DTSTART;TZID=UTC:20250422T090000
DTEND;TZID=UTC:20250422T110000
DTSTAMP:20260421T060451
CREATED:20250407T211454Z
LAST-MODIFIED:20250407T211454Z
UID:10001342-1745312400-1745319600@www.memorialhealthswok.com
SUMMARY:Joint Replacement Class
DESCRIPTION:9am | Education Conference Room\nTo register\, call ext 5587 or 580.585.5587
URL:https://www.memorialhealthswok.com/events/joint-replacement-class-6/2025-04-22/
LOCATION:OK
END:VEVENT
BEGIN:VEVENT
DTSTART;TZID=UTC:20250417T110000
DTEND;TZID=UTC:20250417T120000
DTSTAMP:20260421T060451
CREATED:20250407T211846Z
LAST-MODIFIED:20250407T211846Z
UID:10001345-1744887600-1744891200@www.memorialhealthswok.com
SUMMARY:Prenatal Tour
DESCRIPTION:11am | Hospital Lobby
URL:https://www.memorialhealthswok.com/events/prenatal-tour-5/2025-04-17/
LOCATION:OK
END:VEVENT
BEGIN:VEVENT
DTSTART;TZID=UTC:20250416T143000
DTEND;TZID=UTC:20250416T163000
DTSTAMP:20260421T060451
CREATED:20250407T212728Z
LAST-MODIFIED:20250407T212728Z
UID:10001715-1744813800-1744821000@www.memorialhealthswok.com
SUMMARY:Stroke Support Group
DESCRIPTION:2:30 – 4:30pm | Inpatient Rehab Conference Room
URL:https://www.memorialhealthswok.com/events/stroke-support-group-5/2025-04-16/
LOCATION:OK
END:VEVENT
BEGIN:VEVENT
DTSTART;TZID=UTC:20250415T180000
DTEND;TZID=UTC:20250415T190000
DTSTAMP:20260421T060451
CREATED:20250407T212233Z
LAST-MODIFIED:20250407T212233Z
UID:10001714-1744740000-1744743600@www.memorialhealthswok.com
SUMMARY:Ostomy Support Group
DESCRIPTION:6pm | Inpatient Rehab Conference Room
URL:https://www.memorialhealthswok.com/events/ostomy-support-group-4/
LOCATION:OK
END:VEVENT
BEGIN:VEVENT
DTSTART;TZID=UTC:20250415T090000
DTEND;TZID=UTC:20250415T110000
DTSTAMP:20260421T060451
CREATED:20250407T211454Z
LAST-MODIFIED:20250407T211454Z
UID:10001341-1744707600-1744714800@www.memorialhealthswok.com
SUMMARY:Joint Replacement Class
DESCRIPTION:9am | Education Conference Room\nTo register\, call ext 5587 or 580.585.5587
URL:https://www.memorialhealthswok.com/events/joint-replacement-class-6/2025-04-15/
LOCATION:OK
END:VEVENT
BEGIN:VEVENT
DTSTART;TZID=UTC:20250415T080000
DTEND;TZID=UTC:20250415T163000
DTSTAMP:20260421T060451
CREATED:20250407T212019Z
LAST-MODIFIED:20250407T212116Z
UID:10001348-1744704000-1744734600@www.memorialhealthswok.com
SUMMARY:MHS T-Shirt Sale
DESCRIPTION:8am – 4:30pm | Fieldstone Conference Room
URL:https://www.memorialhealthswok.com/events/ccmh-t-shirt-sale/2025-04-15/
LOCATION:OK
END:VEVENT
BEGIN:VEVENT
DTSTART;TZID=UTC:20250414T080000
DTEND;TZID=UTC:20250414T163000
DTSTAMP:20260421T060451
CREATED:20250407T212019Z
LAST-MODIFIED:20250407T212116Z
UID:10001347-1744617600-1744648200@www.memorialhealthswok.com
SUMMARY:MHS T-Shirt Sale
DESCRIPTION:8am – 4:30pm | Fieldstone Conference Room
URL:https://www.memorialhealthswok.com/events/ccmh-t-shirt-sale/2025-04-14/
LOCATION:OK
END:VEVENT
BEGIN:VEVENT
DTSTART;TZID=UTC:20250410T110000
DTEND;TZID=UTC:20250410T120000
DTSTAMP:20260421T060451
CREATED:20250407T211846Z
LAST-MODIFIED:20250407T211846Z
UID:10001344-1744282800-1744286400@www.memorialhealthswok.com
SUMMARY:Prenatal Tour
DESCRIPTION:11am | Hospital Lobby
URL:https://www.memorialhealthswok.com/events/prenatal-tour-5/2025-04-10/
LOCATION:OK
END:VEVENT
BEGIN:VEVENT
DTSTART;TZID=UTC:20250408T090000
DTEND;TZID=UTC:20250408T110000
DTSTAMP:20260421T060451
CREATED:20250407T211454Z
LAST-MODIFIED:20250407T211454Z
UID:10001340-1744102800-1744110000@www.memorialhealthswok.com
SUMMARY:Joint Replacement Class
DESCRIPTION:9am | Education Conference Room\nTo register\, call ext 5587 or 580.585.5587
URL:https://www.memorialhealthswok.com/events/joint-replacement-class-6/2025-04-08/
LOCATION:OK
END:VEVENT
BEGIN:VEVENT
DTSTART;TZID=UTC:20250304T113000
DTEND;TZID=UTC:20250304T123000
DTSTAMP:20260421T060451
CREATED:20250218T183051Z
LAST-MODIFIED:20250218T183249Z
UID:10001334-1741087800-1741091400@www.memorialhealthswok.com
SUMMARY:Lunch and Learn
DESCRIPTION:–RESCHEDULED FROM FEB 18–\n11:30am | Oakwood Conference Room\nAaron Trachte\, MD\, Cardiovascular and Thoracic Surgeon
URL:https://www.memorialhealthswok.com/events/lunch-and-learn/
LOCATION:OK
END:VEVENT
BEGIN:VEVENT
DTSTART;TZID=UTC:20250221T090000
DTEND;TZID=UTC:20250221T110000
DTSTAMP:20260421T060451
CREATED:20250218T182627Z
LAST-MODIFIED:20250218T183227Z
UID:10001333-1740128400-1740135600@www.memorialhealthswok.com
SUMMARY:Joint Replacement Class
DESCRIPTION:–RESCHEDULED FROM FEB 18–\n9am | Education Conference Room\nTo register\, call ext 5587 or 580.585.5587
URL:https://www.memorialhealthswok.com/events/joint-replacement-class-5/
LOCATION:OK
END:VEVENT
BEGIN:VEVENT
DTSTART;TZID=UTC:20250221T080000
DTEND;TZID=UTC:20250221T163000
DTSTAMP:20260421T060451
CREATED:20250218T183713Z
LAST-MODIFIED:20250218T183713Z
UID:10001338-1740124800-1740155400@www.memorialhealthswok.com
SUMMARY:AED and CPR Training
DESCRIPTION:8am –  4:30pm | Outpatient Lobby\nCome and go event; hands-on training for Automated external defibrillators and hands-only CPR.
URL:https://www.memorialhealthswok.com/events/aed-and-cpr-training/
LOCATION:OK
END:VEVENT
BEGIN:VEVENT
DTSTART;TZID=UTC:20250220T110000
DTEND;TZID=UTC:20250220T120000
DTSTAMP:20260421T060451
CREATED:20250218T183614Z
LAST-MODIFIED:20250218T183614Z
UID:10001337-1740049200-1740052800@www.memorialhealthswok.com
SUMMARY:Prenatal Tour
DESCRIPTION:–CANCELLED– \n11am | Hospital Lobby
URL:https://www.memorialhealthswok.com/events/prenatal-tour-4/
LOCATION:OK
END:VEVENT
BEGIN:VEVENT
DTSTART;TZID=UTC:20250219T143000
DTEND;TZID=UTC:20250219T163000
DTSTAMP:20260421T060451
CREATED:20250218T183447Z
LAST-MODIFIED:20250218T183447Z
UID:10001336-1739975400-1739982600@www.memorialhealthswok.com
SUMMARY:Stroke Support Group
DESCRIPTION:–CANCELLED– \n2:30 – 4:30pm | Inpatient Rehab Conference Room
URL:https://www.memorialhealthswok.com/events/stroke-support-group-4/
LOCATION:OK
END:VEVENT
BEGIN:VEVENT
DTSTART;TZID=UTC:20250218T180000
DTEND;TZID=UTC:20250218T190000
DTSTAMP:20260421T060451
CREATED:20250218T183204Z
LAST-MODIFIED:20250218T183204Z
UID:10001335-1739901600-1739905200@www.memorialhealthswok.com
SUMMARY:Ostomy Support Group
DESCRIPTION:–CANCELLED–\n6pm | Inpatient Rehab Conference Room
URL:https://www.memorialhealthswok.com/events/ostomy-support-group-3/
LOCATION:OK
END:VEVENT
BEGIN:VEVENT
DTSTART;TZID=UTC:20250130T110000
DTEND;TZID=UTC:20250130T120000
DTSTAMP:20260421T060451
CREATED:20250108T165650Z
LAST-MODIFIED:20250108T165650Z
UID:10001329-1738234800-1738238400@www.memorialhealthswok.com
SUMMARY:Prenatal Tour
DESCRIPTION:11am | Hospital Lobby
URL:https://www.memorialhealthswok.com/events/prenatal-tour-3/2025-01-30/
LOCATION:OK
END:VEVENT
BEGIN:VEVENT
DTSTART;TZID=UTC:20250128T090000
DTEND;TZID=UTC:20250128T230000
DTSTAMP:20260421T060451
CREATED:20250108T164859Z
LAST-MODIFIED:20250108T164859Z
UID:10001320-1738054800-1738105200@www.memorialhealthswok.com
SUMMARY:Joint Replacement Class
DESCRIPTION:9am | Education Conference Room\nTo register\, call ext 5587 or 580.585.5587
URL:https://www.memorialhealthswok.com/events/joint-replacement-class-4/2025-01-28/
LOCATION:OK
END:VEVENT
BEGIN:VEVENT
DTSTART;TZID=UTC:20250123T110000
DTEND;TZID=UTC:20250123T120000
DTSTAMP:20260421T060451
CREATED:20250108T165650Z
LAST-MODIFIED:20250108T165650Z
UID:10001328-1737630000-1737633600@www.memorialhealthswok.com
SUMMARY:Prenatal Tour
DESCRIPTION:11am | Hospital Lobby
URL:https://www.memorialhealthswok.com/events/prenatal-tour-3/2025-01-23/
LOCATION:OK
END:VEVENT
BEGIN:VEVENT
DTSTART;TZID=UTC:20250122T143000
DTEND;TZID=UTC:20250122T163000
DTSTAMP:20260421T060451
CREATED:20250108T165422Z
LAST-MODIFIED:20250108T165422Z
UID:10001325-1737556200-1737563400@www.memorialhealthswok.com
SUMMARY:Stroke Support Group
DESCRIPTION:2:30 – 4:30pm | Inpatient Rehab Conference Room
URL:https://www.memorialhealthswok.com/events/stroke-support-group-3/2025-01-22/
LOCATION:OK
END:VEVENT
BEGIN:VEVENT
DTSTART;TZID=UTC:20250121T180000
DTEND;TZID=UTC:20250121T190000
DTSTAMP:20260421T060451
CREATED:20250108T170035Z
LAST-MODIFIED:20250108T170035Z
UID:10001332-1737482400-1737486000@www.memorialhealthswok.com
SUMMARY:Ostomy Support Group
DESCRIPTION:6pm | Inpatient Rehab Conference Room
URL:https://www.memorialhealthswok.com/events/ostomy-support-group-2/
LOCATION:OK
END:VEVENT
BEGIN:VEVENT
DTSTART;TZID=UTC:20250121T090000
DTEND;TZID=UTC:20250121T230000
DTSTAMP:20260421T060451
CREATED:20250108T164859Z
LAST-MODIFIED:20250108T164859Z
UID:10001319-1737450000-1737500400@www.memorialhealthswok.com
SUMMARY:Joint Replacement Class
DESCRIPTION:9am | Education Conference Room\nTo register\, call ext 5587 or 580.585.5587
URL:https://www.memorialhealthswok.com/events/joint-replacement-class-4/2025-01-21/
LOCATION:OK
END:VEVENT
BEGIN:VEVENT
DTSTART;TZID=UTC:20250120T090000
DTEND;TZID=UTC:20250120T160000
DTSTAMP:20260421T060451
CREATED:20250108T165921Z
LAST-MODIFIED:20250108T165921Z
UID:10001331-1737363600-1737388800@www.memorialhealthswok.com
SUMMARY:Blood Drive
DESCRIPTION:9am – 4pm | Oakwood Conference Room\nTo make an appointment\, call ext 5406
URL:https://www.memorialhealthswok.com/events/blood-drive/
LOCATION:OK
END:VEVENT
BEGIN:VEVENT
DTSTART;TZID=UTC:20250116T110000
DTEND;TZID=UTC:20250116T120000
DTSTAMP:20260421T060451
CREATED:20250108T165650Z
LAST-MODIFIED:20250108T165650Z
UID:10001327-1737025200-1737028800@www.memorialhealthswok.com
SUMMARY:Prenatal Tour
DESCRIPTION:11am | Hospital Lobby
URL:https://www.memorialhealthswok.com/events/prenatal-tour-3/2025-01-16/
LOCATION:OK
END:VEVENT
BEGIN:VEVENT
DTSTART;TZID=UTC:20250114T090000
DTEND;TZID=UTC:20250114T230000
DTSTAMP:20260421T060451
CREATED:20250108T164859Z
LAST-MODIFIED:20250108T164859Z
UID:10001318-1736845200-1736895600@www.memorialhealthswok.com
SUMMARY:Joint Replacement Class
DESCRIPTION:9am | Education Conference Room\nTo register\, call ext 5587 or 580.585.5587
URL:https://www.memorialhealthswok.com/events/joint-replacement-class-4/2025-01-14/
LOCATION:OK
END:VEVENT
BEGIN:VEVENT
DTSTART;TZID=UTC:20250109T190000
DTEND;TZID=UTC:20250109T200000
DTSTAMP:20260421T060451
CREATED:20250108T165825Z
LAST-MODIFIED:20250108T165825Z
UID:10001330-1736449200-1736452800@www.memorialhealthswok.com
SUMMARY:Breastfeeding Class
DESCRIPTION:7pm | Fieldstone Conference Room
URL:https://www.memorialhealthswok.com/events/breastfeeding-class/
LOCATION:OK
END:VEVENT
BEGIN:VEVENT
DTSTART;TZID=UTC:20250109T110000
DTEND;TZID=UTC:20250109T120000
DTSTAMP:20260421T060451
CREATED:20250108T165650Z
LAST-MODIFIED:20250108T165650Z
UID:10001326-1736420400-1736424000@www.memorialhealthswok.com
SUMMARY:Prenatal Tour
DESCRIPTION:11am | Hospital Lobby
URL:https://www.memorialhealthswok.com/events/prenatal-tour-3/2025-01-09/
LOCATION:OK
END:VEVENT
BEGIN:VEVENT
DTSTART;TZID=UTC:20250108T143000
DTEND;TZID=UTC:20250108T163000
DTSTAMP:20260421T060451
CREATED:20250108T165422Z
LAST-MODIFIED:20250108T165422Z
UID:10001324-1736346600-1736353800@www.memorialhealthswok.com
SUMMARY:Stroke Support Group
DESCRIPTION:2:30 – 4:30pm | Inpatient Rehab Conference Room
URL:https://www.memorialhealthswok.com/events/stroke-support-group-3/2025-01-08/
LOCATION:OK
END:VEVENT
END:VCALENDAR