BEGIN:VCALENDAR
VERSION:2.0
PRODID:-//Memorial Health System of Southwest Oklahoma - ECPv6.15.20//NONSGML v1.0//EN
CALSCALE:GREGORIAN
METHOD:PUBLISH
X-ORIGINAL-URL:https://www.memorialhealthswok.com
X-WR-CALDESC:Events for Memorial Health System of Southwest Oklahoma
REFRESH-INTERVAL;VALUE=DURATION:PT1H
X-Robots-Tag:noindex
X-PUBLISHED-TTL:PT1H
BEGIN:VTIMEZONE
TZID:UTC
BEGIN:STANDARD
TZOFFSETFROM:+0000
TZOFFSETTO:+0000
TZNAME:UTC
DTSTART:20250101T000000
END:STANDARD
END:VTIMEZONE
BEGIN:VEVENT
DTSTART;TZID=UTC:20260808T090000
DTEND;TZID=UTC:20260808T120000
DTSTAMP:20260421T024605
CREATED:20260109T220249Z
LAST-MODIFIED:20260109T220249Z
UID:10001804-1786179600-1786190400@www.memorialhealthswok.com
SUMMARY:Childbirth Class
DESCRIPTION:Oakwood Conference Room
URL:https://www.memorialhealthswok.com/events/childbirth-class/2026-08-08/
LOCATION:Memorial Health System of Southwest Oklahoma\, 3401 West Gore Boulevard\, Lawton\, OK\, 73505\, United States
END:VEVENT
BEGIN:VEVENT
DTSTART;TZID=UTC:20260813T110000
DTEND;TZID=UTC:20260813T120000
DTSTAMP:20260421T024605
CREATED:20260109T215520Z
LAST-MODIFIED:20260109T215520Z
UID:10001775-1786618800-1786622400@www.memorialhealthswok.com
SUMMARY:Prenatal Tours
DESCRIPTION:11 a.m. in the Memorial Health Lobby
URL:https://www.memorialhealthswok.com/events/prenatal-tours/2026-08-13/
LOCATION:Memorial Health System of Southwest Oklahoma\, 3401 West Gore Boulevard\, Lawton\, OK\, 73505\, United States
END:VEVENT
BEGIN:VEVENT
DTSTART;TZID=UTC:20260820T110000
DTEND;TZID=UTC:20260820T120000
DTSTAMP:20260421T024605
CREATED:20260109T215520Z
LAST-MODIFIED:20260109T215520Z
UID:10001776-1787223600-1787227200@www.memorialhealthswok.com
SUMMARY:Prenatal Tours
DESCRIPTION:11 a.m. in the Memorial Health Lobby
URL:https://www.memorialhealthswok.com/events/prenatal-tours/2026-08-20/
LOCATION:Memorial Health System of Southwest Oklahoma\, 3401 West Gore Boulevard\, Lawton\, OK\, 73505\, United States
END:VEVENT
BEGIN:VEVENT
DTSTART;TZID=UTC:20260822T090000
DTEND;TZID=UTC:20260822T120000
DTSTAMP:20260421T024605
CREATED:20260109T221122Z
LAST-MODIFIED:20260109T221122Z
UID:10001842-1787389200-1787400000@www.memorialhealthswok.com
SUMMARY:Childbirth Class
DESCRIPTION:Oakwood Conference Room
URL:https://www.memorialhealthswok.com/events/childbirth-class-2/2026-08-22/
LOCATION:Memorial Health System of Southwest Oklahoma\, 3401 West Gore Boulevard\, Lawton\, OK\, 73505\, United States
END:VEVENT
BEGIN:VEVENT
DTSTART;TZID=UTC:20260827T110000
DTEND;TZID=UTC:20260827T120000
DTSTAMP:20260421T024605
CREATED:20260109T215520Z
LAST-MODIFIED:20260109T215520Z
UID:10001777-1787828400-1787832000@www.memorialhealthswok.com
SUMMARY:Prenatal Tours
DESCRIPTION:11 a.m. in the Memorial Health Lobby
URL:https://www.memorialhealthswok.com/events/prenatal-tours/2026-08-27/
LOCATION:Memorial Health System of Southwest Oklahoma\, 3401 West Gore Boulevard\, Lawton\, OK\, 73505\, United States
END:VEVENT
BEGIN:VEVENT
DTSTART;TZID=UTC:20260903T110000
DTEND;TZID=UTC:20260903T120000
DTSTAMP:20260421T024605
CREATED:20260109T215520Z
LAST-MODIFIED:20260109T215520Z
UID:10001778-1788433200-1788436800@www.memorialhealthswok.com
SUMMARY:Prenatal Tours
DESCRIPTION:11 a.m. in the Memorial Health Lobby
URL:https://www.memorialhealthswok.com/events/prenatal-tours/2026-09-03/
LOCATION:Memorial Health System of Southwest Oklahoma\, 3401 West Gore Boulevard\, Lawton\, OK\, 73505\, United States
END:VEVENT
BEGIN:VEVENT
DTSTART;TZID=UTC:20260903T190000
DTEND;TZID=UTC:20260903T210000
DTSTAMP:20260421T024605
CREATED:20260109T222313Z
LAST-MODIFIED:20260109T222313Z
UID:10001855-1788462000-1788469200@www.memorialhealthswok.com
SUMMARY:Breastfeeding Class
DESCRIPTION:7 p.m. in Fieldstone Conference Room
URL:https://www.memorialhealthswok.com/events/breastfeeding-class-2/2026-09-03/
LOCATION:Memorial Health System of Southwest Oklahoma\, 3401 West Gore Boulevard\, Lawton\, OK\, 73505\, United States
END:VEVENT
BEGIN:VEVENT
DTSTART;TZID=UTC:20260910T110000
DTEND;TZID=UTC:20260910T120000
DTSTAMP:20260421T024605
CREATED:20260109T215520Z
LAST-MODIFIED:20260109T215520Z
UID:10001779-1789038000-1789041600@www.memorialhealthswok.com
SUMMARY:Prenatal Tours
DESCRIPTION:11 a.m. in the Memorial Health Lobby
URL:https://www.memorialhealthswok.com/events/prenatal-tours/2026-09-10/
LOCATION:Memorial Health System of Southwest Oklahoma\, 3401 West Gore Boulevard\, Lawton\, OK\, 73505\, United States
END:VEVENT
BEGIN:VEVENT
DTSTART;TZID=UTC:20260912T090000
DTEND;TZID=UTC:20260912T120000
DTSTAMP:20260421T024605
CREATED:20260109T220249Z
LAST-MODIFIED:20260109T220249Z
UID:10001805-1789203600-1789214400@www.memorialhealthswok.com
SUMMARY:Childbirth Class
DESCRIPTION:Oakwood Conference Room
URL:https://www.memorialhealthswok.com/events/childbirth-class/2026-09-12/
LOCATION:Memorial Health System of Southwest Oklahoma\, 3401 West Gore Boulevard\, Lawton\, OK\, 73505\, United States
END:VEVENT
BEGIN:VEVENT
DTSTART;TZID=UTC:20260917T110000
DTEND;TZID=UTC:20260917T120000
DTSTAMP:20260421T024605
CREATED:20260109T215520Z
LAST-MODIFIED:20260109T215520Z
UID:10001780-1789642800-1789646400@www.memorialhealthswok.com
SUMMARY:Prenatal Tours
DESCRIPTION:11 a.m. in the Memorial Health Lobby
URL:https://www.memorialhealthswok.com/events/prenatal-tours/2026-09-17/
LOCATION:Memorial Health System of Southwest Oklahoma\, 3401 West Gore Boulevard\, Lawton\, OK\, 73505\, United States
END:VEVENT
BEGIN:VEVENT
DTSTART;TZID=UTC:20260924T110000
DTEND;TZID=UTC:20260924T120000
DTSTAMP:20260421T024605
CREATED:20260109T215520Z
LAST-MODIFIED:20260109T215520Z
UID:10001781-1790247600-1790251200@www.memorialhealthswok.com
SUMMARY:Prenatal Tours
DESCRIPTION:11 a.m. in the Memorial Health Lobby
URL:https://www.memorialhealthswok.com/events/prenatal-tours/2026-09-24/
LOCATION:Memorial Health System of Southwest Oklahoma\, 3401 West Gore Boulevard\, Lawton\, OK\, 73505\, United States
END:VEVENT
BEGIN:VEVENT
DTSTART;TZID=UTC:20260926T090000
DTEND;TZID=UTC:20260926T120000
DTSTAMP:20260421T024605
CREATED:20260109T221122Z
LAST-MODIFIED:20260109T221122Z
UID:10001843-1790413200-1790424000@www.memorialhealthswok.com
SUMMARY:Childbirth Class
DESCRIPTION:Oakwood Conference Room
URL:https://www.memorialhealthswok.com/events/childbirth-class-2/2026-09-26/
LOCATION:Memorial Health System of Southwest Oklahoma\, 3401 West Gore Boulevard\, Lawton\, OK\, 73505\, United States
END:VEVENT
BEGIN:VEVENT
DTSTART;TZID=UTC:20261001T110000
DTEND;TZID=UTC:20261001T120000
DTSTAMP:20260421T024605
CREATED:20260109T215520Z
LAST-MODIFIED:20260109T215520Z
UID:10001782-1790852400-1790856000@www.memorialhealthswok.com
SUMMARY:Prenatal Tours
DESCRIPTION:11 a.m. in the Memorial Health Lobby
URL:https://www.memorialhealthswok.com/events/prenatal-tours/2026-10-01/
LOCATION:Memorial Health System of Southwest Oklahoma\, 3401 West Gore Boulevard\, Lawton\, OK\, 73505\, United States
END:VEVENT
BEGIN:VEVENT
DTSTART;TZID=UTC:20261001T190000
DTEND;TZID=UTC:20261001T210000
DTSTAMP:20260421T024605
CREATED:20260109T222313Z
LAST-MODIFIED:20260109T222313Z
UID:10001856-1790881200-1790888400@www.memorialhealthswok.com
SUMMARY:Breastfeeding Class
DESCRIPTION:7 p.m. in Fieldstone Conference Room
URL:https://www.memorialhealthswok.com/events/breastfeeding-class-2/2026-10-01/
LOCATION:Memorial Health System of Southwest Oklahoma\, 3401 West Gore Boulevard\, Lawton\, OK\, 73505\, United States
END:VEVENT
BEGIN:VEVENT
DTSTART;TZID=UTC:20261008T110000
DTEND;TZID=UTC:20261008T120000
DTSTAMP:20260421T024605
CREATED:20260109T215520Z
LAST-MODIFIED:20260109T215520Z
UID:10001783-1791457200-1791460800@www.memorialhealthswok.com
SUMMARY:Prenatal Tours
DESCRIPTION:11 a.m. in the Memorial Health Lobby
URL:https://www.memorialhealthswok.com/events/prenatal-tours/2026-10-08/
LOCATION:Memorial Health System of Southwest Oklahoma\, 3401 West Gore Boulevard\, Lawton\, OK\, 73505\, United States
END:VEVENT
BEGIN:VEVENT
DTSTART;TZID=UTC:20261010T090000
DTEND;TZID=UTC:20261010T120000
DTSTAMP:20260421T024605
CREATED:20260109T220249Z
LAST-MODIFIED:20260109T220249Z
UID:10001806-1791622800-1791633600@www.memorialhealthswok.com
SUMMARY:Childbirth Class
DESCRIPTION:Oakwood Conference Room
URL:https://www.memorialhealthswok.com/events/childbirth-class/2026-10-10/
LOCATION:Memorial Health System of Southwest Oklahoma\, 3401 West Gore Boulevard\, Lawton\, OK\, 73505\, United States
END:VEVENT
BEGIN:VEVENT
DTSTART;TZID=UTC:20261015T110000
DTEND;TZID=UTC:20261015T120000
DTSTAMP:20260421T024605
CREATED:20260109T215520Z
LAST-MODIFIED:20260109T215520Z
UID:10001784-1792062000-1792065600@www.memorialhealthswok.com
SUMMARY:Prenatal Tours
DESCRIPTION:11 a.m. in the Memorial Health Lobby
URL:https://www.memorialhealthswok.com/events/prenatal-tours/2026-10-15/
LOCATION:Memorial Health System of Southwest Oklahoma\, 3401 West Gore Boulevard\, Lawton\, OK\, 73505\, United States
END:VEVENT
BEGIN:VEVENT
DTSTART;TZID=UTC:20261022T110000
DTEND;TZID=UTC:20261022T120000
DTSTAMP:20260421T024605
CREATED:20260109T215520Z
LAST-MODIFIED:20260109T215520Z
UID:10001785-1792666800-1792670400@www.memorialhealthswok.com
SUMMARY:Prenatal Tours
DESCRIPTION:11 a.m. in the Memorial Health Lobby
URL:https://www.memorialhealthswok.com/events/prenatal-tours/2026-10-22/
LOCATION:Memorial Health System of Southwest Oklahoma\, 3401 West Gore Boulevard\, Lawton\, OK\, 73505\, United States
END:VEVENT
BEGIN:VEVENT
DTSTART;TZID=UTC:20261024T090000
DTEND;TZID=UTC:20261024T120000
DTSTAMP:20260421T024605
CREATED:20260109T221122Z
LAST-MODIFIED:20260109T221122Z
UID:10001844-1792832400-1792843200@www.memorialhealthswok.com
SUMMARY:Childbirth Class
DESCRIPTION:Oakwood Conference Room
URL:https://www.memorialhealthswok.com/events/childbirth-class-2/2026-10-24/
LOCATION:Memorial Health System of Southwest Oklahoma\, 3401 West Gore Boulevard\, Lawton\, OK\, 73505\, United States
END:VEVENT
BEGIN:VEVENT
DTSTART;TZID=UTC:20261029T110000
DTEND;TZID=UTC:20261029T120000
DTSTAMP:20260421T024605
CREATED:20260109T215520Z
LAST-MODIFIED:20260109T215520Z
UID:10001786-1793271600-1793275200@www.memorialhealthswok.com
SUMMARY:Prenatal Tours
DESCRIPTION:11 a.m. in the Memorial Health Lobby
URL:https://www.memorialhealthswok.com/events/prenatal-tours/2026-10-29/
LOCATION:Memorial Health System of Southwest Oklahoma\, 3401 West Gore Boulevard\, Lawton\, OK\, 73505\, United States
END:VEVENT
BEGIN:VEVENT
DTSTART;TZID=UTC:20261105T110000
DTEND;TZID=UTC:20261105T120000
DTSTAMP:20260421T024605
CREATED:20260109T215520Z
LAST-MODIFIED:20260109T215520Z
UID:10001787-1793876400-1793880000@www.memorialhealthswok.com
SUMMARY:Prenatal Tours
DESCRIPTION:11 a.m. in the Memorial Health Lobby
URL:https://www.memorialhealthswok.com/events/prenatal-tours/2026-11-05/
LOCATION:Memorial Health System of Southwest Oklahoma\, 3401 West Gore Boulevard\, Lawton\, OK\, 73505\, United States
END:VEVENT
BEGIN:VEVENT
DTSTART;TZID=UTC:20261105T190000
DTEND;TZID=UTC:20261105T210000
DTSTAMP:20260421T024605
CREATED:20260109T222313Z
LAST-MODIFIED:20260109T222313Z
UID:10001857-1793905200-1793912400@www.memorialhealthswok.com
SUMMARY:Breastfeeding Class
DESCRIPTION:7 p.m. in Fieldstone Conference Room
URL:https://www.memorialhealthswok.com/events/breastfeeding-class-2/2026-11-05/
LOCATION:Memorial Health System of Southwest Oklahoma\, 3401 West Gore Boulevard\, Lawton\, OK\, 73505\, United States
END:VEVENT
BEGIN:VEVENT
DTSTART;TZID=UTC:20261112T110000
DTEND;TZID=UTC:20261112T120000
DTSTAMP:20260421T024605
CREATED:20260109T215520Z
LAST-MODIFIED:20260109T215520Z
UID:10001788-1794481200-1794484800@www.memorialhealthswok.com
SUMMARY:Prenatal Tours
DESCRIPTION:11 a.m. in the Memorial Health Lobby
URL:https://www.memorialhealthswok.com/events/prenatal-tours/2026-11-12/
LOCATION:Memorial Health System of Southwest Oklahoma\, 3401 West Gore Boulevard\, Lawton\, OK\, 73505\, United States
END:VEVENT
BEGIN:VEVENT
DTSTART;TZID=UTC:20261114T090000
DTEND;TZID=UTC:20261114T120000
DTSTAMP:20260421T024605
CREATED:20260109T220249Z
LAST-MODIFIED:20260109T220249Z
UID:10001807-1794646800-1794657600@www.memorialhealthswok.com
SUMMARY:Childbirth Class
DESCRIPTION:Oakwood Conference Room
URL:https://www.memorialhealthswok.com/events/childbirth-class/2026-11-14/
LOCATION:Memorial Health System of Southwest Oklahoma\, 3401 West Gore Boulevard\, Lawton\, OK\, 73505\, United States
END:VEVENT
BEGIN:VEVENT
DTSTART;TZID=UTC:20261119T110000
DTEND;TZID=UTC:20261119T120000
DTSTAMP:20260421T024605
CREATED:20260109T215520Z
LAST-MODIFIED:20260109T215520Z
UID:10001789-1795086000-1795089600@www.memorialhealthswok.com
SUMMARY:Prenatal Tours
DESCRIPTION:11 a.m. in the Memorial Health Lobby
URL:https://www.memorialhealthswok.com/events/prenatal-tours/2026-11-19/
LOCATION:Memorial Health System of Southwest Oklahoma\, 3401 West Gore Boulevard\, Lawton\, OK\, 73505\, United States
END:VEVENT
BEGIN:VEVENT
DTSTART;TZID=UTC:20261126T110000
DTEND;TZID=UTC:20261126T120000
DTSTAMP:20260421T024605
CREATED:20260109T215520Z
LAST-MODIFIED:20260109T215520Z
UID:10001790-1795690800-1795694400@www.memorialhealthswok.com
SUMMARY:Prenatal Tours
DESCRIPTION:11 a.m. in the Memorial Health Lobby
URL:https://www.memorialhealthswok.com/events/prenatal-tours/2026-11-26/
LOCATION:Memorial Health System of Southwest Oklahoma\, 3401 West Gore Boulevard\, Lawton\, OK\, 73505\, United States
END:VEVENT
BEGIN:VEVENT
DTSTART;TZID=UTC:20261128T090000
DTEND;TZID=UTC:20261128T120000
DTSTAMP:20260421T024605
CREATED:20260109T221122Z
LAST-MODIFIED:20260109T221122Z
UID:10001845-1795856400-1795867200@www.memorialhealthswok.com
SUMMARY:Childbirth Class
DESCRIPTION:Oakwood Conference Room
URL:https://www.memorialhealthswok.com/events/childbirth-class-2/2026-11-28/
LOCATION:Memorial Health System of Southwest Oklahoma\, 3401 West Gore Boulevard\, Lawton\, OK\, 73505\, United States
END:VEVENT
BEGIN:VEVENT
DTSTART;TZID=UTC:20261203T110000
DTEND;TZID=UTC:20261203T120000
DTSTAMP:20260421T024605
CREATED:20260109T215520Z
LAST-MODIFIED:20260109T215520Z
UID:10001791-1796295600-1796299200@www.memorialhealthswok.com
SUMMARY:Prenatal Tours
DESCRIPTION:11 a.m. in the Memorial Health Lobby
URL:https://www.memorialhealthswok.com/events/prenatal-tours/2026-12-03/
LOCATION:Memorial Health System of Southwest Oklahoma\, 3401 West Gore Boulevard\, Lawton\, OK\, 73505\, United States
END:VEVENT
BEGIN:VEVENT
DTSTART;TZID=UTC:20261203T190000
DTEND;TZID=UTC:20261203T210000
DTSTAMP:20260421T024605
CREATED:20260109T222313Z
LAST-MODIFIED:20260109T222313Z
UID:10001858-1796324400-1796331600@www.memorialhealthswok.com
SUMMARY:Breastfeeding Class
DESCRIPTION:7 p.m. in Fieldstone Conference Room
URL:https://www.memorialhealthswok.com/events/breastfeeding-class-2/2026-12-03/
LOCATION:Memorial Health System of Southwest Oklahoma\, 3401 West Gore Boulevard\, Lawton\, OK\, 73505\, United States
END:VEVENT
BEGIN:VEVENT
DTSTART;TZID=UTC:20261210T110000
DTEND;TZID=UTC:20261210T120000
DTSTAMP:20260421T024605
CREATED:20260109T215520Z
LAST-MODIFIED:20260109T215520Z
UID:10001792-1796900400-1796904000@www.memorialhealthswok.com
SUMMARY:Prenatal Tours
DESCRIPTION:11 a.m. in the Memorial Health Lobby
URL:https://www.memorialhealthswok.com/events/prenatal-tours/2026-12-10/
LOCATION:Memorial Health System of Southwest Oklahoma\, 3401 West Gore Boulevard\, Lawton\, OK\, 73505\, United States
END:VEVENT
END:VCALENDAR