BEGIN:VCALENDAR
VERSION:2.0
PRODID:-//Memorial Health System of Southwest Oklahoma - ECPv6.15.20//NONSGML v1.0//EN
CALSCALE:GREGORIAN
METHOD:PUBLISH
X-WR-CALNAME:Memorial Health System of Southwest Oklahoma
X-ORIGINAL-URL:https://www.memorialhealthswok.com
X-WR-CALDESC:Events for Memorial Health System of Southwest Oklahoma
REFRESH-INTERVAL;VALUE=DURATION:PT1H
X-Robots-Tag:noindex
X-PUBLISHED-TTL:PT1H
BEGIN:VTIMEZONE
TZID:UTC
BEGIN:STANDARD
TZOFFSETFROM:+0000
TZOFFSETTO:+0000
TZNAME:UTC
DTSTART:20240101T000000
END:STANDARD
END:VTIMEZONE
BEGIN:VEVENT
DTSTART;TZID=UTC:20260204T143000
DTEND;TZID=UTC:20260204T163000
DTSTAMP:20260421T024431
CREATED:20250407T212728Z
LAST-MODIFIED:20250407T212728Z
UID:10001736-1770215400-1770222600@www.memorialhealthswok.com
SUMMARY:Stroke Support Group
DESCRIPTION:2:30 – 4:30pm | Inpatient Rehab Conference Room
URL:https://www.memorialhealthswok.com/events/stroke-support-group-5/2026-02-04/
LOCATION:OK
END:VEVENT
BEGIN:VEVENT
DTSTART;TZID=UTC:20260129T110000
DTEND;TZID=UTC:20260129T120000
DTSTAMP:20260421T024431
CREATED:20260109T215520Z
LAST-MODIFIED:20260109T215520Z
UID:10001747-1769684400-1769688000@www.memorialhealthswok.com
SUMMARY:Prenatal Tours
DESCRIPTION:11 a.m. in the Memorial Health Lobby
URL:https://www.memorialhealthswok.com/events/prenatal-tours/2026-01-29/
LOCATION:Memorial Health System of Southwest Oklahoma\, 3401 West Gore Boulevard\, Lawton\, OK\, 73505\, United States
END:VEVENT
BEGIN:VEVENT
DTSTART;TZID=UTC:20260124T130000
DTEND;TZID=UTC:20260124T160000
DTSTAMP:20260421T024431
CREATED:20260109T221122Z
LAST-MODIFIED:20260109T221122Z
UID:10001835-1769259600-1769270400@www.memorialhealthswok.com
SUMMARY:Childbirth Class
DESCRIPTION:Oakwood Conference Room
URL:https://www.memorialhealthswok.com/events/childbirth-class-2/2026-01-24/2/
LOCATION:Memorial Health System of Southwest Oklahoma\, 3401 West Gore Boulevard\, Lawton\, OK\, 73505\, United States
END:VEVENT
BEGIN:VEVENT
DTSTART;TZID=UTC:20260124T090000
DTEND;TZID=UTC:20260124T120000
DTSTAMP:20260421T024431
CREATED:20260109T221122Z
LAST-MODIFIED:20260109T221122Z
UID:10001834-1769245200-1769256000@www.memorialhealthswok.com
SUMMARY:Childbirth Class
DESCRIPTION:Oakwood Conference Room
URL:https://www.memorialhealthswok.com/events/childbirth-class-2/2026-01-24/1/
LOCATION:Memorial Health System of Southwest Oklahoma\, 3401 West Gore Boulevard\, Lawton\, OK\, 73505\, United States
END:VEVENT
BEGIN:VEVENT
DTSTART;TZID=UTC:20260122T110000
DTEND;TZID=UTC:20260122T120000
DTSTAMP:20260421T024431
CREATED:20260109T215520Z
LAST-MODIFIED:20260109T215520Z
UID:10001746-1769079600-1769083200@www.memorialhealthswok.com
SUMMARY:Prenatal Tours
DESCRIPTION:11 a.m. in the Memorial Health Lobby
URL:https://www.memorialhealthswok.com/events/prenatal-tours/2026-01-22/
LOCATION:Memorial Health System of Southwest Oklahoma\, 3401 West Gore Boulevard\, Lawton\, OK\, 73505\, United States
END:VEVENT
BEGIN:VEVENT
DTSTART;TZID=UTC:20260121T143000
DTEND;TZID=UTC:20260121T163000
DTSTAMP:20260421T024431
CREATED:20250407T212728Z
LAST-MODIFIED:20250407T212728Z
UID:10001735-1769005800-1769013000@www.memorialhealthswok.com
SUMMARY:Stroke Support Group
DESCRIPTION:2:30 – 4:30pm | Inpatient Rehab Conference Room
URL:https://www.memorialhealthswok.com/events/stroke-support-group-5/2026-01-21/
LOCATION:OK
END:VEVENT
BEGIN:VEVENT
DTSTART;TZID=UTC:20260115T110000
DTEND;TZID=UTC:20260115T120000
DTSTAMP:20260421T024431
CREATED:20260109T215520Z
LAST-MODIFIED:20260109T215520Z
UID:10001745-1768474800-1768478400@www.memorialhealthswok.com
SUMMARY:Prenatal Tours
DESCRIPTION:11 a.m. in the Memorial Health Lobby
URL:https://www.memorialhealthswok.com/events/prenatal-tours/2026-01-15/
LOCATION:Memorial Health System of Southwest Oklahoma\, 3401 West Gore Boulevard\, Lawton\, OK\, 73505\, United States
END:VEVENT
BEGIN:VEVENT
DTSTART;TZID=UTC:20260110T130000
DTEND;TZID=UTC:20260110T160000
DTSTAMP:20260421T024431
CREATED:20260109T220249Z
LAST-MODIFIED:20260109T220249Z
UID:10001797-1768050000-1768060800@www.memorialhealthswok.com
SUMMARY:Childbirth Class
DESCRIPTION:Oakwood Conference Room
URL:https://www.memorialhealthswok.com/events/childbirth-class/2026-01-10/2/
LOCATION:Memorial Health System of Southwest Oklahoma\, 3401 West Gore Boulevard\, Lawton\, OK\, 73505\, United States
END:VEVENT
BEGIN:VEVENT
DTSTART;TZID=UTC:20260110T090000
DTEND;TZID=UTC:20260110T120000
DTSTAMP:20260421T024431
CREATED:20260109T220249Z
LAST-MODIFIED:20260109T220249Z
UID:10001796-1768035600-1768046400@www.memorialhealthswok.com
SUMMARY:Childbirth Class
DESCRIPTION:Oakwood Conference Room
URL:https://www.memorialhealthswok.com/events/childbirth-class/2026-01-10/1/
LOCATION:Memorial Health System of Southwest Oklahoma\, 3401 West Gore Boulevard\, Lawton\, OK\, 73505\, United States
END:VEVENT
BEGIN:VEVENT
DTSTART;TZID=UTC:20260107T143000
DTEND;TZID=UTC:20260107T163000
DTSTAMP:20260421T024431
CREATED:20250407T212728Z
LAST-MODIFIED:20250407T212728Z
UID:10001734-1767796200-1767803400@www.memorialhealthswok.com
SUMMARY:Stroke Support Group
DESCRIPTION:2:30 – 4:30pm | Inpatient Rehab Conference Room
URL:https://www.memorialhealthswok.com/events/stroke-support-group-5/2026-01-07/
LOCATION:OK
END:VEVENT
BEGIN:VEVENT
DTSTART;TZID=UTC:20260101T190000
DTEND;TZID=UTC:20260101T210000
DTSTAMP:20260421T024431
CREATED:20260109T222313Z
LAST-MODIFIED:20260109T222313Z
UID:10001847-1767294000-1767301200@www.memorialhealthswok.com
SUMMARY:Breastfeeding Class
DESCRIPTION:7 p.m. in Fieldstone Conference Room
URL:https://www.memorialhealthswok.com/events/breastfeeding-class-2/2026-01-01/
LOCATION:Memorial Health System of Southwest Oklahoma\, 3401 West Gore Boulevard\, Lawton\, OK\, 73505\, United States
END:VEVENT
BEGIN:VEVENT
DTSTART;TZID=UTC:20251224T143000
DTEND;TZID=UTC:20251224T163000
DTSTAMP:20260421T024431
CREATED:20250407T212728Z
LAST-MODIFIED:20250407T212728Z
UID:10001733-1766586600-1766593800@www.memorialhealthswok.com
SUMMARY:Stroke Support Group
DESCRIPTION:2:30 – 4:30pm | Inpatient Rehab Conference Room
URL:https://www.memorialhealthswok.com/events/stroke-support-group-5/2025-12-24/
LOCATION:OK
END:VEVENT
BEGIN:VEVENT
DTSTART;TZID=UTC:20251210T143000
DTEND;TZID=UTC:20251210T163000
DTSTAMP:20260421T024431
CREATED:20250407T212728Z
LAST-MODIFIED:20250407T212728Z
UID:10001732-1765377000-1765384200@www.memorialhealthswok.com
SUMMARY:Stroke Support Group
DESCRIPTION:2:30 – 4:30pm | Inpatient Rehab Conference Room
URL:https://www.memorialhealthswok.com/events/stroke-support-group-5/2025-12-10/
LOCATION:OK
END:VEVENT
BEGIN:VEVENT
DTSTART;TZID=UTC:20251126T143000
DTEND;TZID=UTC:20251126T163000
DTSTAMP:20260421T024431
CREATED:20250407T212728Z
LAST-MODIFIED:20250407T212728Z
UID:10001731-1764167400-1764174600@www.memorialhealthswok.com
SUMMARY:Stroke Support Group
DESCRIPTION:2:30 – 4:30pm | Inpatient Rehab Conference Room
URL:https://www.memorialhealthswok.com/events/stroke-support-group-5/2025-11-26/
LOCATION:OK
END:VEVENT
BEGIN:VEVENT
DTSTART;TZID=UTC:20251112T143000
DTEND;TZID=UTC:20251112T163000
DTSTAMP:20260421T024431
CREATED:20250407T212728Z
LAST-MODIFIED:20250407T212728Z
UID:10001730-1762957800-1762965000@www.memorialhealthswok.com
SUMMARY:Stroke Support Group
DESCRIPTION:2:30 – 4:30pm | Inpatient Rehab Conference Room
URL:https://www.memorialhealthswok.com/events/stroke-support-group-5/2025-11-12/
LOCATION:OK
END:VEVENT
BEGIN:VEVENT
DTSTART;TZID=UTC:20251029T143000
DTEND;TZID=UTC:20251029T163000
DTSTAMP:20260421T024431
CREATED:20250407T212728Z
LAST-MODIFIED:20250407T212728Z
UID:10001729-1761748200-1761755400@www.memorialhealthswok.com
SUMMARY:Stroke Support Group
DESCRIPTION:2:30 – 4:30pm | Inpatient Rehab Conference Room
URL:https://www.memorialhealthswok.com/events/stroke-support-group-5/2025-10-29/
LOCATION:OK
END:VEVENT
BEGIN:VEVENT
DTSTART;TZID=UTC:20251015T143000
DTEND;TZID=UTC:20251015T163000
DTSTAMP:20260421T024431
CREATED:20250407T212728Z
LAST-MODIFIED:20250407T212728Z
UID:10001728-1760538600-1760545800@www.memorialhealthswok.com
SUMMARY:Stroke Support Group
DESCRIPTION:2:30 – 4:30pm | Inpatient Rehab Conference Room
URL:https://www.memorialhealthswok.com/events/stroke-support-group-5/2025-10-15/
LOCATION:OK
END:VEVENT
BEGIN:VEVENT
DTSTART;TZID=UTC:20251001T143000
DTEND;TZID=UTC:20251001T163000
DTSTAMP:20260421T024431
CREATED:20250407T212728Z
LAST-MODIFIED:20250407T212728Z
UID:10001727-1759329000-1759336200@www.memorialhealthswok.com
SUMMARY:Stroke Support Group
DESCRIPTION:2:30 – 4:30pm | Inpatient Rehab Conference Room
URL:https://www.memorialhealthswok.com/events/stroke-support-group-5/2025-10-01/
LOCATION:OK
END:VEVENT
BEGIN:VEVENT
DTSTART;TZID=UTC:20250917T143000
DTEND;TZID=UTC:20250917T163000
DTSTAMP:20260421T024431
CREATED:20250407T212728Z
LAST-MODIFIED:20250407T212728Z
UID:10001726-1758119400-1758126600@www.memorialhealthswok.com
SUMMARY:Stroke Support Group
DESCRIPTION:2:30 – 4:30pm | Inpatient Rehab Conference Room
URL:https://www.memorialhealthswok.com/events/stroke-support-group-5/2025-09-17/
LOCATION:OK
END:VEVENT
BEGIN:VEVENT
DTSTART;TZID=UTC:20250903T143000
DTEND;TZID=UTC:20250903T163000
DTSTAMP:20260421T024431
CREATED:20250407T212728Z
LAST-MODIFIED:20250407T212728Z
UID:10001725-1756909800-1756917000@www.memorialhealthswok.com
SUMMARY:Stroke Support Group
DESCRIPTION:2:30 – 4:30pm | Inpatient Rehab Conference Room
URL:https://www.memorialhealthswok.com/events/stroke-support-group-5/2025-09-03/
LOCATION:OK
END:VEVENT
BEGIN:VEVENT
DTSTART;TZID=UTC:20250820T143000
DTEND;TZID=UTC:20250820T163000
DTSTAMP:20260421T024431
CREATED:20250407T212728Z
LAST-MODIFIED:20250407T212728Z
UID:10001724-1755700200-1755707400@www.memorialhealthswok.com
SUMMARY:Stroke Support Group
DESCRIPTION:2:30 – 4:30pm | Inpatient Rehab Conference Room
URL:https://www.memorialhealthswok.com/events/stroke-support-group-5/2025-08-20/
LOCATION:OK
END:VEVENT
BEGIN:VEVENT
DTSTART;TZID=UTC:20250806T143000
DTEND;TZID=UTC:20250806T163000
DTSTAMP:20260421T024431
CREATED:20250407T212728Z
LAST-MODIFIED:20250407T212728Z
UID:10001723-1754490600-1754497800@www.memorialhealthswok.com
SUMMARY:Stroke Support Group
DESCRIPTION:2:30 – 4:30pm | Inpatient Rehab Conference Room
URL:https://www.memorialhealthswok.com/events/stroke-support-group-5/2025-08-06/
LOCATION:OK
END:VEVENT
BEGIN:VEVENT
DTSTART;TZID=UTC:20250723T143000
DTEND;TZID=UTC:20250723T163000
DTSTAMP:20260421T024431
CREATED:20250407T212728Z
LAST-MODIFIED:20250407T212728Z
UID:10001722-1753281000-1753288200@www.memorialhealthswok.com
SUMMARY:Stroke Support Group
DESCRIPTION:2:30 – 4:30pm | Inpatient Rehab Conference Room
URL:https://www.memorialhealthswok.com/events/stroke-support-group-5/2025-07-23/
LOCATION:OK
END:VEVENT
BEGIN:VEVENT
DTSTART;TZID=UTC:20250709T143000
DTEND;TZID=UTC:20250709T163000
DTSTAMP:20260421T024431
CREATED:20250407T212728Z
LAST-MODIFIED:20250407T212728Z
UID:10001721-1752071400-1752078600@www.memorialhealthswok.com
SUMMARY:Stroke Support Group
DESCRIPTION:2:30 – 4:30pm | Inpatient Rehab Conference Room
URL:https://www.memorialhealthswok.com/events/stroke-support-group-5/2025-07-09/
LOCATION:OK
END:VEVENT
BEGIN:VEVENT
DTSTART;TZID=UTC:20250625T143000
DTEND;TZID=UTC:20250625T163000
DTSTAMP:20260421T024431
CREATED:20250407T212728Z
LAST-MODIFIED:20250407T212728Z
UID:10001720-1750861800-1750869000@www.memorialhealthswok.com
SUMMARY:Stroke Support Group
DESCRIPTION:2:30 – 4:30pm | Inpatient Rehab Conference Room
URL:https://www.memorialhealthswok.com/events/stroke-support-group-5/2025-06-25/
LOCATION:OK
END:VEVENT
BEGIN:VEVENT
DTSTART;TZID=UTC:20250611T143000
DTEND;TZID=UTC:20250611T163000
DTSTAMP:20260421T024431
CREATED:20250407T212728Z
LAST-MODIFIED:20250407T212728Z
UID:10001719-1749652200-1749659400@www.memorialhealthswok.com
SUMMARY:Stroke Support Group
DESCRIPTION:2:30 – 4:30pm | Inpatient Rehab Conference Room
URL:https://www.memorialhealthswok.com/events/stroke-support-group-5/2025-06-11/
LOCATION:OK
END:VEVENT
BEGIN:VEVENT
DTSTART;TZID=UTC:20250528T143000
DTEND;TZID=UTC:20250528T163000
DTSTAMP:20260421T024431
CREATED:20250407T212728Z
LAST-MODIFIED:20250407T212728Z
UID:10001718-1748442600-1748449800@www.memorialhealthswok.com
SUMMARY:Stroke Support Group
DESCRIPTION:2:30 – 4:30pm | Inpatient Rehab Conference Room
URL:https://www.memorialhealthswok.com/events/stroke-support-group-5/2025-05-28/
LOCATION:OK
END:VEVENT
BEGIN:VEVENT
DTSTART;TZID=UTC:20250514T143000
DTEND;TZID=UTC:20250514T163000
DTSTAMP:20260421T024431
CREATED:20250407T212728Z
LAST-MODIFIED:20250407T212728Z
UID:10001717-1747233000-1747240200@www.memorialhealthswok.com
SUMMARY:Stroke Support Group
DESCRIPTION:2:30 – 4:30pm | Inpatient Rehab Conference Room
URL:https://www.memorialhealthswok.com/events/stroke-support-group-5/2025-05-14/
LOCATION:OK
END:VEVENT
BEGIN:VEVENT
DTSTART;TZID=UTC:20250430T143000
DTEND;TZID=UTC:20250430T163000
DTSTAMP:20260421T024431
CREATED:20250407T212728Z
LAST-MODIFIED:20250407T212728Z
UID:10001716-1746023400-1746030600@www.memorialhealthswok.com
SUMMARY:Stroke Support Group
DESCRIPTION:2:30 – 4:30pm | Inpatient Rehab Conference Room
URL:https://www.memorialhealthswok.com/events/stroke-support-group-5/2025-04-30/
LOCATION:OK
END:VEVENT
BEGIN:VEVENT
DTSTART;TZID=UTC:20250429T090000
DTEND;TZID=UTC:20250429T110000
DTSTAMP:20260421T024431
CREATED:20250407T211454Z
LAST-MODIFIED:20250407T211454Z
UID:10001343-1745917200-1745924400@www.memorialhealthswok.com
SUMMARY:Joint Replacement Class
DESCRIPTION:9am | Education Conference Room\nTo register\, call ext 5587 or 580.585.5587
URL:https://www.memorialhealthswok.com/events/joint-replacement-class-6/2025-04-29/
LOCATION:OK
END:VEVENT
END:VCALENDAR