BEGIN:VCALENDAR
VERSION:2.0
PRODID:-//Memorial Health System of Southwest Oklahoma - ECPv6.15.20//NONSGML v1.0//EN
CALSCALE:GREGORIAN
METHOD:PUBLISH
X-ORIGINAL-URL:https://www.memorialhealthswok.com
X-WR-CALDESC:Events for Memorial Health System of Southwest Oklahoma
REFRESH-INTERVAL;VALUE=DURATION:PT1H
X-Robots-Tag:noindex
X-PUBLISHED-TTL:PT1H
BEGIN:VTIMEZONE
TZID:UTC
BEGIN:STANDARD
TZOFFSETFROM:+0000
TZOFFSETTO:+0000
TZNAME:UTC
DTSTART:20250101T000000
END:STANDARD
END:VTIMEZONE
BEGIN:VEVENT
DTSTART;TZID=UTC:20260402T110000
DTEND;TZID=UTC:20260402T120000
DTSTAMP:20260420T150842
CREATED:20260109T215520Z
LAST-MODIFIED:20260109T215520Z
UID:10001756-1775127600-1775131200@www.memorialhealthswok.com
SUMMARY:Prenatal Tours
DESCRIPTION:11 a.m. in the Memorial Health Lobby
URL:https://www.memorialhealthswok.com/events/prenatal-tours/2026-04-02/
LOCATION:Memorial Health System of Southwest Oklahoma\, 3401 West Gore Boulevard\, Lawton\, OK\, 73505\, United States
END:VEVENT
BEGIN:VEVENT
DTSTART;TZID=UTC:20260402T190000
DTEND;TZID=UTC:20260402T210000
DTSTAMP:20260420T150842
CREATED:20260109T222313Z
LAST-MODIFIED:20260109T222313Z
UID:10001850-1775156400-1775163600@www.memorialhealthswok.com
SUMMARY:Breastfeeding Class
DESCRIPTION:7 p.m. in Fieldstone Conference Room
URL:https://www.memorialhealthswok.com/events/breastfeeding-class-2/2026-04-02/
LOCATION:Memorial Health System of Southwest Oklahoma\, 3401 West Gore Boulevard\, Lawton\, OK\, 73505\, United States
END:VEVENT
END:VCALENDAR