BEGIN:VCALENDAR
VERSION:2.0
PRODID:-//Memorial Health System of Southwest Oklahoma - ECPv6.15.20//NONSGML v1.0//EN
CALSCALE:GREGORIAN
METHOD:PUBLISH
X-ORIGINAL-URL:https://www.memorialhealthswok.com
X-WR-CALDESC:Events for Memorial Health System of Southwest Oklahoma
REFRESH-INTERVAL;VALUE=DURATION:PT1H
X-Robots-Tag:noindex
X-PUBLISHED-TTL:PT1H
BEGIN:VTIMEZONE
TZID:UTC
BEGIN:STANDARD
TZOFFSETFROM:+0000
TZOFFSETTO:+0000
TZNAME:UTC
DTSTART:20240101T000000
END:STANDARD
END:VTIMEZONE
BEGIN:VEVENT
DTSTART;TZID=UTC:20250429T090000
DTEND;TZID=UTC:20250429T110000
DTSTAMP:20260422T220426
CREATED:20250407T211454Z
LAST-MODIFIED:20250407T211454Z
UID:10001343-1745917200-1745924400@www.memorialhealthswok.com
SUMMARY:Joint Replacement Class
DESCRIPTION:9am | Education Conference Room\nTo register\, call ext 5587 or 580.585.5587
URL:https://www.memorialhealthswok.com/events/joint-replacement-class-6/2025-04-29/
LOCATION:OK
END:VEVENT
END:VCALENDAR