BEGIN:VCALENDAR
VERSION:2.0
PRODID:-//Memorial Health System of Southwest Oklahoma - ECPv6.15.20//NONSGML v1.0//EN
CALSCALE:GREGORIAN
METHOD:PUBLISH
X-WR-CALNAME:Memorial Health System of Southwest Oklahoma
X-ORIGINAL-URL:https://www.memorialhealthswok.com
X-WR-CALDESC:Events for Memorial Health System of Southwest Oklahoma
REFRESH-INTERVAL;VALUE=DURATION:PT1H
X-Robots-Tag:noindex
X-PUBLISHED-TTL:PT1H
BEGIN:VTIMEZONE
TZID:UTC
BEGIN:STANDARD
TZOFFSETFROM:+0000
TZOFFSETTO:+0000
TZNAME:UTC
DTSTART:20230101T000000
END:STANDARD
END:VTIMEZONE
BEGIN:VEVENT
DTSTART;TZID=UTC:20241022T110000
DTEND;TZID=UTC:20241022T120000
DTSTAMP:20260425T211741
CREATED:20241001T210909Z
LAST-MODIFIED:20241001T210909Z
UID:10001280-1729594800-1729598400@www.memorialhealthswok.com
SUMMARY:MHS Food Drive Due
DESCRIPTION:Get your department motivated to help those in need! Please gather donations and present to the main lobby at 11am on Tuesday\, October 22\, 2024\, and the winning department will be announced at that time.
URL:https://www.memorialhealthswok.com/events/ccmh-food-drive-due/
LOCATION:OK
END:VEVENT
END:VCALENDAR