BEGIN:VCALENDAR
VERSION:2.0
PRODID:-//Memorial Health System of Southwest Oklahoma - ECPv6.15.20//NONSGML v1.0//EN
CALSCALE:GREGORIAN
METHOD:PUBLISH
X-ORIGINAL-URL:https://www.memorialhealthswok.com
X-WR-CALDESC:Events for Memorial Health System of Southwest Oklahoma
REFRESH-INTERVAL;VALUE=DURATION:PT1H
X-Robots-Tag:noindex
X-PUBLISHED-TTL:PT1H
BEGIN:VTIMEZONE
TZID:UTC
BEGIN:STANDARD
TZOFFSETFROM:+0000
TZOFFSETTO:+0000
TZNAME:UTC
DTSTART:20230101T000000
END:STANDARD
END:VTIMEZONE
BEGIN:VEVENT
DTSTART;TZID=UTC:20241021T160000
DTEND;TZID=UTC:20241021T180000
DTSTAMP:20260425T211737
CREATED:20240903T195244Z
LAST-MODIFIED:20240903T195244Z
UID:10000964-1729526400-1729533600@www.memorialhealthswok.com
SUMMARY:Mourning and Meaning Grief Group
DESCRIPTION:Fall 10-week session begins Monday\, September 9 at 4 PM \nIf your grief feels like uncharted territory\, you are not alone. Grief can be a confusing and isolating experience. Mourning and Meaning is a time of learning about your grief and\, if you wish\, sharing about grief in a supportive group setting. We will help you understand the terrain and walk alongside you.  \nFind your footing at the next ten-week Mourning and Meaning Grief Group. \nRegister by calling MHS Caplain Paul Gore at 580.355.8620 or email paul.gore@memorialhealthswok.com
URL:https://www.memorialhealthswok.com/events/mourning-and-meaning-grief-group/2024-10-21/
LOCATION:OK
END:VEVENT
END:VCALENDAR