BEGIN:VCALENDAR
VERSION:2.0
PRODID:-//Memorial Health System of Southwest Oklahoma - ECPv6.15.20//NONSGML v1.0//EN
CALSCALE:GREGORIAN
METHOD:PUBLISH
X-ORIGINAL-URL:https://www.memorialhealthswok.com
X-WR-CALDESC:Events for Memorial Health System of Southwest Oklahoma
REFRESH-INTERVAL;VALUE=DURATION:PT1H
X-Robots-Tag:noindex
X-PUBLISHED-TTL:PT1H
BEGIN:VTIMEZONE
TZID:UTC
BEGIN:STANDARD
TZOFFSETFROM:+0000
TZOFFSETTO:+0000
TZNAME:UTC
DTSTART:20230101T000000
END:STANDARD
END:VTIMEZONE
BEGIN:VEVENT
DTSTART;TZID=UTC:20240830T090000
DTEND;TZID=UTC:20240830T120000
DTSTAMP:20260426T023414
CREATED:20240826T165230Z
LAST-MODIFIED:20240826T165230Z
UID:10000005-1725008400-1725019200@www.memorialhealthswok.com
SUMMARY:Operation Health Fair
DESCRIPTION:MHS Simulation Center\n3401 West Gore Blvd \nIf you have ever wondered about a career in healthcare\, this is the fair for you!  Come learn about different careers in nursing\, radiology\, laboratory\, pharmacy\, therapies and more as well as how to get started on the career of your dreams.
URL:https://www.memorialhealthswok.com/events/operation-health-fair/
LOCATION:Memorial Health System of Southwest Oklahoma\, 3401 West Gore Boulevard\, Lawton\, OK\, 73505\, United States
END:VEVENT
END:VCALENDAR